BEGIN:VCALENDAR
VERSION:2.0
PRODID:-//eventon.com NONSGML v1.0//EN
CALSCALE:GREGORIAN
METHOD:PUBLISH
BEGIN:VEVENT
UID:69e8dc66238ba
DTSTAMP:20260422T143414Z
DTSTART:20210508T000200Z
DTEND:20210508T000200Z
LOCATION:Bayshore Art Gallery (Formerly Things I Like by Catherine) 3954 Bayshore Drive
SUMMARY:Artists I like: Linda Hinkle
DESCRIPTION:Artists I like: Linda Hinkle\nhttps://thingsilikebyc.com/events
 /linda-hinkle/
URL:https://thingsilikebyc.com/events/linda-hinkle/
END:VEVENT
END:VCALENDAR