BEGIN:VCALENDAR
VERSION:2.0
PRODID:-//eventon.com NONSGML v1.0//EN
CALSCALE:GREGORIAN
METHOD:PUBLISH
BEGIN:VEVENT
UID:69e91f4427261
DTSTAMP:20260422T191932Z
DTSTART:20210810T180000Z
DTEND:20210810T190000Z
LOCATION:Bayshore Art Gallery (Formerly Things I Like by Catherine) 3954 Bayshore Drive
SUMMARY:Live Summer Art Talks - Michael Ray
DESCRIPTION:Live Summer Art Talks - Michael Ray\nhttps://thingsilikebyc.com
 /events/live-summer-art-talks-michael-ray/
URL:https://thingsilikebyc.com/events/live-summer-art-talks-michael-ray/
END:VEVENT
END:VCALENDAR