BEGIN:VCALENDAR
VERSION:2.0
PRODID:-//eventon.com NONSGML v1.0//EN
CALSCALE:GREGORIAN
METHOD:PUBLISH
BEGIN:VEVENT
UID:69e8e1b75404e
DTSTAMP:20260422T145655Z
DTSTART:20211119T220000Z
DTEND:20211120T010000Z
LOCATION:Bayshore Art Gallery (Formerly Things I Like by Catherine) 3954 Bayshore Drive
SUMMARY:Amanda Jaron Open House
DESCRIPTION:Amanda Jaron Open House\nhttps://thingsilikebyc.com/events/aman
 da-jaron-open-house/
URL:https://thingsilikebyc.com/events/amanda-jaron-open-house/
END:VEVENT
END:VCALENDAR