BEGIN:VCALENDAR
VERSION:2.0
PRODID:-//eventon.com NONSGML v1.0//EN
CALSCALE:GREGORIAN
METHOD:PUBLISH
BEGIN:VEVENT
UID:69e8dc65a3c1e
DTSTAMP:20260422T143413Z
DTSTART:20211203T220000Z
DTEND:20211204T010000Z
LOCATION:Bayshore Art Gallery (Formerly Things I Like by Catherine) 3954 Bayshore Drive
SUMMARY:Mark Hunt Open House
DESCRIPTION:Mark Hunt Open House\nhttps://thingsilikebyc.com/events/mark-hu
 nt-open-house/
URL:https://thingsilikebyc.com/events/mark-hunt-open-house/
END:VEVENT
END:VCALENDAR