BEGIN:VCALENDAR
VERSION:2.0
PRODID:-//eventon.com NONSGML v1.0//EN
CALSCALE:GREGORIAN
METHOD:PUBLISH
BEGIN:VEVENT
UID:69e77054ec36c
DTSTAMP:20260421T124052Z
DTSTART:20220211T220000Z
DTEND:20220212T010000Z
LOCATION:Bayshore Art Gallery (Formerly Things I Like by Catherine) 3954 Bayshore Drive
SUMMARY:Experience Stacie Krupa and Amanda Jaron
DESCRIPTION:Come out and enjoy experiencing the artwork of Amanda Jaron and
  Stacie Krupa at Things I like by Catherine!\nhttps://thingsilikebyc.com/ev
 ents/experience-stacie-krupa-and-amanda-jaron/
URL:https://thingsilikebyc.com/events/experience-stacie-krupa-and-amanda-jaron/
END:VEVENT
END:VCALENDAR