BEGIN:VCALENDAR
VERSION:2.0
PRODID:-//eventon.com NONSGML v1.0//EN
CALSCALE:GREGORIAN
METHOD:PUBLISH
BEGIN:VEVENT
UID:69e8dc643fe2a
DTSTAMP:20260422T143412Z
DTSTART:20220325T210000Z
DTEND:20220326T000000Z
LOCATION:Bayshore Art Gallery (Formerly Things I Like by Catherine) 3954 Bayshore Drive
SUMMARY:Artists I Like - Mark J. Hunt
DESCRIPTION:Artists I Like - Mark J. Hunt\nhttps://thingsilikebyc.com/event
 s/artists-i-like-mark-j-hunt-bayshore-art-event/
URL:https://thingsilikebyc.com/events/artists-i-like-mark-j-hunt-bayshore-art-event/
END:VEVENT
END:VCALENDAR