BEGIN:VCALENDAR
VERSION:2.0
PRODID:-//eventon.com NONSGML v1.0//EN
CALSCALE:GREGORIAN
METHOD:PUBLISH
BEGIN:VEVENT
UID:69e8dc63b6370
DTSTAMP:20260422T143411Z
DTSTART:20230316T210000Z
DTEND:20230317T000000Z
LOCATION:Bayshore Art Gallery (Formerly Things I Like by Catherine) 3954 Bayshore Drive
SUMMARY:Marc Zimmerman
DESCRIPTION:Marc Zimmerman\nhttps://thingsilikebyc.com/events/marc-zimmerma
 n/
URL:https://thingsilikebyc.com/events/marc-zimmerman/
END:VEVENT
END:VCALENDAR