BEGIN:VCALENDAR
VERSION:2.0
PRODID:-//eventon.com NONSGML v1.0//EN
CALSCALE:GREGORIAN
METHOD:PUBLISH
BEGIN:VEVENT
UID:69e8dfdc00f10
DTSTAMP:20260422T144900Z
DTSTART:20230302T220000Z
DTEND:20230303T010000Z
LOCATION:Bayshore Art Gallery (Formerly Things I Like by Catherine) 3954 Bayshore Drive
SUMMARY:Michael Ray
DESCRIPTION:Michael Ray\nhttps://thingsilikebyc.com/events/michael-ray/
URL:https://thingsilikebyc.com/events/michael-ray/
END:VEVENT
END:VCALENDAR