BEGIN:VCALENDAR
VERSION:2.0
PRODID:-//eventon.com NONSGML v1.0//EN
CALSCALE:GREGORIAN
METHOD:PUBLISH
BEGIN:VEVENT
UID:69e8dc6542847
DTSTAMP:20260422T143413Z
DTSTART:20240105T220000Z
DTEND:20240106T010000Z
LOCATION:Bayshore Art Gallery (Formerly Things I Like by Catherine) 3954 Bayshore Drive
SUMMARY:First Friday Art Events: Jeff McDougal
DESCRIPTION:Please join Catherine in the Bayshore Arts District at her cont
 emporary art gallery\,  Things I Like by Catherine\,  for &#8220;FIRST FRID
 AY&#8221; events with our featured artists!\nhttps://thingsilikebyc.com/eve
 nts/first-friday-art-events-jeff-mcdougal-fine-art-glassblower-glass-art/
URL:https://thingsilikebyc.com/events/first-friday-art-events-jeff-mcdougal-fine-art-glassblower-glass-art/
END:VEVENT
END:VCALENDAR