BEGIN:VCALENDAR
VERSION:2.0
PRODID:-//eventon.com NONSGML v1.0//EN
CALSCALE:GREGORIAN
METHOD:PUBLISH
BEGIN:VEVENT
UID:69e8dc64b1a16
DTSTAMP:20260422T143412Z
DTSTART:20210401T200000Z
DTEND:20210401T220000Z
LOCATION:Bayshore Art Gallery (Formerly Things I Like by Catherine) 3954 Bayshore Drive
SUMMARY:Artist I Like: Lelu Artisan Candle Studio
DESCRIPTION:Artist I Like: Lelu Artisan Candle Studio\nhttps://thingsilikeb
 yc.com/events/artist-i-like-lelu-artisan-candle-studio/
URL:https://thingsilikebyc.com/events/artist-i-like-lelu-artisan-candle-studio/
END:VEVENT
END:VCALENDAR