BEGIN:VCALENDAR
VERSION:2.0
PRODID:-//eventon.com NONSGML v1.0//EN
CALSCALE:GREGORIAN
METHOD:PUBLISH
BEGIN:VEVENT
UID:69e7804053983
DTSTAMP:20260421T134848Z
DTSTART:20210319T200000Z
DTEND:20210320T010000Z
LOCATION:Bayshore Art Gallery (Formerly Things I Like by Catherine) 3954 Bayshore Drive
SUMMARY:Artists I Like: Stacie Krupa
DESCRIPTION:Artists I Like: Stacie Krupa\nhttps://thingsilikebyc.com/events
 /artists-i-like-stacie-krupa/
URL:https://thingsilikebyc.com/events/artists-i-like-stacie-krupa/
END:VEVENT
END:VCALENDAR