BEGIN:VCALENDAR
VERSION:2.0
PRODID:-//eventon.com NONSGML v1.0//EN
CALSCALE:GREGORIAN
METHOD:PUBLISH
BEGIN:VEVENT
UID:69e8dc66e7048
DTSTAMP:20260422T143414Z
DTSTART:20210423T200000Z
DTEND:20210424T010000Z
LOCATION:Bayshore Art Gallery (Formerly Things I Like by Catherine) 3954 Bayshore Drive
SUMMARY:Artist I like: RyAnne Curnow
DESCRIPTION:Artist I like: RyAnne Curnow\nhttps://thingsilikebyc.com/events
 /artist-i-like-ryanne-curnow/
URL:https://thingsilikebyc.com/events/artist-i-like-ryanne-curnow/
END:VEVENT
END:VCALENDAR